BEGIN:VCALENDAR
VERSION:2.0
PRODID:-//communityvna.org//NONSGML kigkonsult.se iCalcreator 2.30.10//
CALSCALE:GREGORIAN
METHOD:PUBLISH
UID:635a07f9-8481-418b-8e93-521967e15e24
X-WR-CALDESC:
X-WR-RELCALID:f6e05e9a03244191a8df74d400396da2
X-WR-TIMEZONE:America/New_York
BEGIN:VTIMEZONE
TZID:America/New_York
BEGIN:STANDARD
TZNAME:EST
DTSTART:20251102T020000
TZOFFSETFROM:-0400
TZOFFSETTO:-0500
RDATE:20261101T020000
END:STANDARD
BEGIN:DAYLIGHT
TZNAME:EDT
DTSTART:20260308T020000
TZOFFSETFROM:-0500
TZOFFSETTO:-0400
RDATE:20270314T020000
END:DAYLIGHT
END:VTIMEZONE
BEGIN:VEVENT
UID:95ca41a6-815b-4114-a90a-054f01b904b0
DTSTAMP:20260420T071210Z
DESCRIPTION:
DTSTART;TZID=America/New_York:20260417T110000
DTEND;TZID=America/New_York:20260417T123000
LOCATION:455 Somerville Rd\,\, Bridgewater\, NJ 08807 US
SUMMARY:Bridgewater Senior Health Fair
END:VEVENT
END:VCALENDAR
