BEGIN:VCALENDAR
VERSION:2.0
PRODID:-//communityvna.org//NONSGML kigkonsult.se iCalcreator 2.30.10//
CALSCALE:GREGORIAN
METHOD:PUBLISH
UID:454972d3-ca56-4004-a6cc-34954bf8a098
X-WR-CALDESC:
X-WR-RELCALID:7da9d3714bd282bf408d43b240a14882
X-WR-TIMEZONE:America/New_York
BEGIN:VTIMEZONE
TZID:America/New_York
BEGIN:STANDARD
TZNAME:EST
DTSTART:20241103T020000
TZOFFSETFROM:-0400
TZOFFSETTO:-0500
RDATE:20251102T020000
RDATE:20261101T020000
END:STANDARD
BEGIN:DAYLIGHT
TZNAME:EDT
DTSTART:20250309T020000
TZOFFSETFROM:-0500
TZOFFSETTO:-0400
RDATE:20260308T020000
RDATE:20270314T020000
END:DAYLIGHT
END:VTIMEZONE
BEGIN:VEVENT
UID:cb63fc34-3415-490c-8ade-e74c4b47a95f
DTSTAMP:20260424T154241Z
DESCRIPTION:
DTSTART;TZID=America/New_York:20251028T160000
DTEND;TZID=America/New_York:20251028T180000
LOCATION:First Presbyterian Church\, 20 Hilltop Rd\, Mendham\, NJ 07945 US
SUMMARY:Community Health Fair Mendham Borough
END:VEVENT
END:VCALENDAR
