BEGIN:VCALENDAR
VERSION:2.0
PRODID:-//communityvna.org//NONSGML kigkonsult.se iCalcreator 2.30.10//
CALSCALE:GREGORIAN
METHOD:PUBLISH
UID:bb1bddc5-143a-4b98-bd9f-84b7e3cbcdca
X-WR-CALDESC:
X-WR-RELCALID:5eb82ed6c6ec2e0f0f7872c2d2ce520e
X-WR-TIMEZONE:America/New_York
BEGIN:VTIMEZONE
TZID:America/New_York
BEGIN:STANDARD
TZNAME:EST
DTSTART:20241103T020000
TZOFFSETFROM:-0400
TZOFFSETTO:-0500
RDATE:20251102T020000
RDATE:20261101T020000
END:STANDARD
BEGIN:DAYLIGHT
TZNAME:EDT
DTSTART:20250309T020000
TZOFFSETFROM:-0500
TZOFFSETTO:-0400
RDATE:20260308T020000
RDATE:20270314T020000
END:DAYLIGHT
END:VTIMEZONE
BEGIN:VEVENT
UID:dff92124-0f11-4de6-88a3-3a5555e34b57
DTSTAMP:20260424T155704Z
DESCRIPTION:
DTSTART;TZID=America/New_York:20251022T110000
DTEND;TZID=America/New_York:20251022T130000
LOCATION:Chester Borough Municipal Building\, 1 Parker Rd\, Chester\, NJ 07
 930 US
SUMMARY:Community Health Fair Chester Borough
END:VEVENT
END:VCALENDAR
