BEGIN:VCALENDAR
VERSION:2.0
PRODID:-//communityvna.org//NONSGML kigkonsult.se iCalcreator 2.30.10//
CALSCALE:GREGORIAN
METHOD:PUBLISH
UID:4194b5d1-7b7c-4614-98a4-5c62111e4b49
X-WR-CALDESC:
X-WR-RELCALID:45d15bcacf6570ebb279051dfd9a5414
X-WR-TIMEZONE:America/New_York
BEGIN:VTIMEZONE
TZID:America/New_York
BEGIN:STANDARD
TZNAME:EST
DTSTART:20241103T020000
TZOFFSETFROM:-0400
TZOFFSETTO:-0500
RDATE:20251102T020000
RDATE:20261101T020000
END:STANDARD
BEGIN:DAYLIGHT
TZNAME:EDT
DTSTART:20250309T020000
TZOFFSETFROM:-0500
TZOFFSETTO:-0400
RDATE:20260308T020000
RDATE:20270314T020000
END:DAYLIGHT
END:VTIMEZONE
BEGIN:VEVENT
UID:48e7f16f-3509-46db-b12d-ad51317fb530
DTSTAMP:20260424T155535Z
DESCRIPTION:
DTSTART;TZID=America/New_York:20251017T110000
DTEND;TZID=America/New_York:20251017T130000
LOCATION:Peapack/Gladstone Municipal Building\, 1 School Street\, Peapack\,
  NJ 07977 US
SUMMARY:Community Health Fair Peapack/Gladstone
END:VEVENT
END:VCALENDAR
