BEGIN:VCALENDAR
VERSION:2.0
PRODID:-//communityvna.org//NONSGML kigkonsult.se iCalcreator 2.30.10//
CALSCALE:GREGORIAN
METHOD:PUBLISH
UID:8d123ed9-6530-4961-a0be-3887095b13d5
X-WR-CALDESC:
X-WR-RELCALID:2fea8c8e4edc92ae22de598ec89eea3b
X-WR-TIMEZONE:America/New_York
BEGIN:VTIMEZONE
TZID:America/New_York
BEGIN:STANDARD
TZNAME:EST
DTSTART:20261101T020000
TZOFFSETFROM:-0400
TZOFFSETTO:-0500
RDATE:20271107T020000
END:STANDARD
BEGIN:DAYLIGHT
TZNAME:EDT
DTSTART:20260308T020000
TZOFFSETFROM:-0500
TZOFFSETTO:-0400
RDATE:20270314T020000
RDATE:20280312T020000
END:DAYLIGHT
END:VTIMEZONE
BEGIN:VEVENT
UID:c6417446-dab7-4455-874a-d33d8001605d
DTSTAMP:20260424T103638Z
DESCRIPTION:
DTSTART;TZID=America/New_York:20261217T083000
DTEND;TZID=America/New_York:20261217T113000
LOCATION:379 S Branch Rd\, Hillsborough Twp\, NJ 08844 US
SUMMARY:Child Health Clinic Hillsborough
END:VEVENT
END:VCALENDAR
