BEGIN:VCALENDAR
VERSION:2.0
PRODID:-//communityvna.org//NONSGML kigkonsult.se iCalcreator 2.30.10//
CALSCALE:GREGORIAN
METHOD:PUBLISH
UID:e959af4a-be9f-4341-914e-f8a69fabe06b
X-WR-CALDESC:
X-WR-RELCALID:3ebbf15e72340d99262c48d0980565e9
X-WR-TIMEZONE:America/New_York
BEGIN:VTIMEZONE
TZID:America/New_York
BEGIN:STANDARD
TZNAME:EST
DTSTART:20261101T020000
TZOFFSETFROM:-0400
TZOFFSETTO:-0500
RDATE:20271107T020000
END:STANDARD
BEGIN:DAYLIGHT
TZNAME:EDT
DTSTART:20260308T020000
TZOFFSETFROM:-0500
TZOFFSETTO:-0400
RDATE:20270314T020000
RDATE:20280312T020000
END:DAYLIGHT
END:VTIMEZONE
BEGIN:VEVENT
UID:93784e26-fb28-4ced-9711-53762c63bc16
DTSTAMP:20260424T102452Z
DESCRIPTION:
DTSTART;TZID=America/New_York:20261208T103000
DTEND;TZID=America/New_York:20261208T120000
LOCATION:455 Somerville Rd\,\, Bridgewater\, NJ 08807 US
SUMMARY:Blood pressure Screening Bridgewater
END:VEVENT
END:VCALENDAR
