BEGIN:VCALENDAR
VERSION:2.0
PRODID:-//communityvna.org//NONSGML kigkonsult.se iCalcreator 2.30.10//
CALSCALE:GREGORIAN
METHOD:PUBLISH
UID:c18989ab-010f-40c2-858c-e80026b14b96
X-WR-CALDESC:
X-WR-RELCALID:79b0c7b77ec5cab676a0a2ffcdbdc3a3
X-WR-TIMEZONE:America/New_York
BEGIN:VTIMEZONE
TZID:America/New_York
BEGIN:STANDARD
TZNAME:EST
DTSTART:20261101T020000
TZOFFSETFROM:-0400
TZOFFSETTO:-0500
RDATE:20271107T020000
END:STANDARD
BEGIN:DAYLIGHT
TZNAME:EDT
DTSTART:20260308T020000
TZOFFSETFROM:-0500
TZOFFSETTO:-0400
RDATE:20270314T020000
RDATE:20280312T020000
END:DAYLIGHT
END:VTIMEZONE
BEGIN:VEVENT
UID:ae650b38-da19-4299-a751-95b71db71ce3
DTSTAMP:20260424T102312Z
DESCRIPTION:
DTSTART;TZID=America/New_York:20261207T110000
DTEND;TZID=America/New_York:20261207T120000
LOCATION:491 Shasta Drive\, Bridgewater\, NJ 08807 US
SUMMARY:Blood pressure Screening Centerbridge 1
END:VEVENT
END:VCALENDAR
