BEGIN:VCALENDAR
VERSION:2.0
PRODID:-//communityvna.org//NONSGML kigkonsult.se iCalcreator 2.30.10//
CALSCALE:GREGORIAN
METHOD:PUBLISH
UID:87ddf0cf-e01b-428f-ba82-27e69d3fcf76
X-WR-CALDESC:
X-WR-RELCALID:b8d912f6553c369d5b5bedc86ccd2e7b
X-WR-TIMEZONE:America/New_York
BEGIN:VTIMEZONE
TZID:America/New_York
BEGIN:STANDARD
TZNAME:EST
DTSTART:20261101T020000
TZOFFSETFROM:-0400
TZOFFSETTO:-0500
RDATE:20271107T020000
END:STANDARD
BEGIN:DAYLIGHT
TZNAME:EDT
DTSTART:20260308T020000
TZOFFSETFROM:-0500
TZOFFSETTO:-0400
RDATE:20270314T020000
RDATE:20280312T020000
END:DAYLIGHT
END:VTIMEZONE
BEGIN:VEVENT
UID:5d0aaac2-c29c-4ef8-af76-209cce7a0f6d
DTSTAMP:20260424T104336Z
DESCRIPTION:
DTSTART;TZID=America/New_York:20261202T123000
DTEND;TZID=America/New_York:20261202T133000
LOCATION:32 S. Maple Ave\, Basking Ridge\, NJ 07920 US
SUMMARY:Blood pressure Screening Bernards Library
END:VEVENT
END:VCALENDAR
