BEGIN:VCALENDAR
VERSION:2.0
PRODID:-//communityvna.org//NONSGML kigkonsult.se iCalcreator 2.30.10//
CALSCALE:GREGORIAN
METHOD:PUBLISH
UID:a735b23e-e26a-4fcf-adea-990c30ed4e76
X-WR-CALDESC:
X-WR-RELCALID:910a2005d31276ebbae8836b3f09874c
X-WR-TIMEZONE:America/New_York
BEGIN:VTIMEZONE
TZID:America/New_York
BEGIN:STANDARD
TZNAME:EST
DTSTART:20261101T020000
TZOFFSETFROM:-0400
TZOFFSETTO:-0500
RDATE:20271107T020000
END:STANDARD
BEGIN:DAYLIGHT
TZNAME:EDT
DTSTART:20260308T020000
TZOFFSETFROM:-0500
TZOFFSETTO:-0400
RDATE:20270314T020000
RDATE:20280312T020000
END:DAYLIGHT
END:VTIMEZONE
BEGIN:VEVENT
UID:055a4988-e719-4b69-ac39-2b49367d212b
DTSTAMP:20260424T103510Z
DESCRIPTION:
DTSTART;TZID=America/New_York:20261201T103000
DTEND;TZID=America/New_York:20261201T120000
LOCATION:Somerset Wellness\, 202 Mt Airy Rd\, Basking Ridge\, NJ 07920 US
SUMMARY:Blood pressure Screening Basking Ridge - Somerset Wellness
END:VEVENT
END:VCALENDAR
