BEGIN:VCALENDAR
VERSION:2.0
PRODID:-//communityvna.org//NONSGML kigkonsult.se iCalcreator 2.30.10//
CALSCALE:GREGORIAN
METHOD:PUBLISH
UID:b13c2bc1-86f8-4050-a599-44c19e4d25fc
X-WR-CALDESC:
X-WR-RELCALID:6c135fd73558a27322eee026a42eaede
X-WR-TIMEZONE:America/New_York
BEGIN:VTIMEZONE
TZID:America/New_York
BEGIN:STANDARD
TZNAME:EST
DTSTART:20261101T020000
TZOFFSETFROM:-0400
TZOFFSETTO:-0500
RDATE:20271107T020000
END:STANDARD
BEGIN:DAYLIGHT
TZNAME:EDT
DTSTART:20260308T020000
TZOFFSETFROM:-0500
TZOFFSETTO:-0400
RDATE:20270314T020000
RDATE:20280312T020000
END:DAYLIGHT
END:VTIMEZONE
BEGIN:VEVENT
UID:35e26df4-b30c-466e-a4f3-86432e9260d3
DTSTAMP:20260424T085849Z
DESCRIPTION:
DTSTART;TZID=America/New_York:20261104T123000
DTEND;TZID=America/New_York:20261104T133000
LOCATION:32 S. Maple Ave\, Basking Ridge\, NJ 07920 US
SUMMARY:Blood pressure Screening Bernards Library
END:VEVENT
END:VCALENDAR
