BEGIN:VCALENDAR
VERSION:2.0
PRODID:-//communityvna.org//NONSGML kigkonsult.se iCalcreator 2.30.10//
CALSCALE:GREGORIAN
METHOD:PUBLISH
UID:a74c792b-105c-439d-bb7f-f55ae8190090
X-WR-CALDESC:
X-WR-RELCALID:a35bbf630f46bac1b784a6fe1dbef2db
X-WR-TIMEZONE:America/New_York
BEGIN:VTIMEZONE
TZID:America/New_York
BEGIN:STANDARD
TZNAME:EST
DTSTART:20251102T020000
TZOFFSETFROM:-0400
TZOFFSETTO:-0500
RDATE:20261101T020000
RDATE:20271107T020000
END:STANDARD
BEGIN:DAYLIGHT
TZNAME:EDT
DTSTART:20260308T020000
TZOFFSETFROM:-0500
TZOFFSETTO:-0400
RDATE:20270314T020000
RDATE:20280312T020000
END:DAYLIGHT
END:VTIMEZONE
BEGIN:VEVENT
UID:8b1dcfb4-2652-4221-b262-33117546bb70
DTSTAMP:20260422T133120Z
DESCRIPTION:
DTSTART;TZID=America/New_York:20260914T110000
DTEND;TZID=America/New_York:20260914T120000
LOCATION:459 Shasta Drive\, Bridgewater\, NJ 08807 US
SUMMARY:Blood pressure Screening Centerbridge 2
END:VEVENT
END:VCALENDAR
