BEGIN:VCALENDAR
VERSION:2.0
PRODID:-//communityvna.org//NONSGML kigkonsult.se iCalcreator 2.30.10//
CALSCALE:GREGORIAN
METHOD:PUBLISH
UID:16b2fc2b-73bc-4869-aa50-46aa4e986ebb
X-WR-CALDESC:
X-WR-RELCALID:f6a5a14f277c3caea3e2f438767d0968
X-WR-TIMEZONE:America/New_York
BEGIN:VTIMEZONE
TZID:America/New_York
BEGIN:STANDARD
TZNAME:EST
DTSTART:20251102T020000
TZOFFSETFROM:-0400
TZOFFSETTO:-0500
RDATE:20261101T020000
RDATE:20271107T020000
END:STANDARD
BEGIN:DAYLIGHT
TZNAME:EDT
DTSTART:20260308T020000
TZOFFSETFROM:-0500
TZOFFSETTO:-0400
RDATE:20270314T020000
END:DAYLIGHT
END:VTIMEZONE
BEGIN:VEVENT
UID:4a63851c-846a-4dd4-b335-2cba55697330
DTSTAMP:20260422T123300Z
DESCRIPTION:
DTSTART;TZID=America/New_York:20260827T083000
DTEND;TZID=America/New_York:20260827T113000
LOCATION:581 Bridgewater Ave.\, Bridgewater\, NJ 08807 US
SUMMARY:Child Health Clinic Bridgewater
END:VEVENT
END:VCALENDAR
