BEGIN:VCALENDAR
VERSION:2.0
PRODID:-//communityvna.org//NONSGML kigkonsult.se iCalcreator 2.30.10//
CALSCALE:GREGORIAN
METHOD:PUBLISH
UID:161f2119-eb84-4c2b-982d-cd7be956095b
X-WR-CALDESC:
X-WR-RELCALID:d2893b7013583e94fcc88177af150d08
X-WR-TIMEZONE:America/New_York
BEGIN:VTIMEZONE
TZID:America/New_York
BEGIN:STANDARD
TZNAME:EST
DTSTART:20251102T020000
TZOFFSETFROM:-0400
TZOFFSETTO:-0500
RDATE:20261101T020000
RDATE:20271107T020000
END:STANDARD
BEGIN:DAYLIGHT
TZNAME:EDT
DTSTART:20260308T020000
TZOFFSETFROM:-0500
TZOFFSETTO:-0400
RDATE:20270314T020000
END:DAYLIGHT
END:VTIMEZONE
BEGIN:VEVENT
UID:5f8ba4ac-5eb7-4759-8248-c1f52f2a280a
DTSTAMP:20260422T123224Z
DESCRIPTION:
DTSTART;TZID=America/New_York:20260820T083000
DTEND;TZID=America/New_York:20260820T113000
LOCATION:379 S Branch Rd\, Hillsborough Twp\, NJ 08844 US
SUMMARY:Child Health Clinic Hillsborough
END:VEVENT
END:VCALENDAR
