BEGIN:VCALENDAR
VERSION:2.0
PRODID:-//communityvna.org//NONSGML kigkonsult.se iCalcreator 2.30.10//
CALSCALE:GREGORIAN
METHOD:PUBLISH
UID:c33c0b2f-fd86-47b7-9011-64abdbddb13b
X-WR-CALDESC:
X-WR-RELCALID:4dc44f46fdd0ab03a1d2e564e4d1dd7f
X-WR-TIMEZONE:America/New_York
BEGIN:VTIMEZONE
TZID:America/New_York
BEGIN:STANDARD
TZNAME:EST
DTSTART:20251102T020000
TZOFFSETFROM:-0400
TZOFFSETTO:-0500
RDATE:20261101T020000
RDATE:20271107T020000
END:STANDARD
BEGIN:DAYLIGHT
TZNAME:EDT
DTSTART:20260308T020000
TZOFFSETFROM:-0500
TZOFFSETTO:-0400
RDATE:20270314T020000
END:DAYLIGHT
END:VTIMEZONE
BEGIN:VEVENT
UID:1d408893-1437-4516-b8b0-56912e338696
DTSTAMP:20260422T134809Z
DESCRIPTION:
DTSTART;TZID=America/New_York:20260805T100000
DTEND;TZID=America/New_York:20260805T110000
LOCATION:769 Valley Rd\, Gilette\, NJ 07933 US
SUMMARY:Blood pressure Screening Long Hill Seniors
END:VEVENT
END:VCALENDAR
