BEGIN:VCALENDAR
VERSION:2.0
PRODID:-//communityvna.org//NONSGML kigkonsult.se iCalcreator 2.30.10//
CALSCALE:GREGORIAN
METHOD:PUBLISH
UID:d8be777d-5da9-4129-9593-59c48bc5e738
X-WR-CALDESC:
X-WR-RELCALID:81e6caa00434bc4b9121b6bee7d6e4ef
X-WR-TIMEZONE:America/New_York
BEGIN:VTIMEZONE
TZID:America/New_York
BEGIN:STANDARD
TZNAME:EST
DTSTART:20251102T020000
TZOFFSETFROM:-0400
TZOFFSETTO:-0500
RDATE:20261101T020000
RDATE:20271107T020000
END:STANDARD
BEGIN:DAYLIGHT
TZNAME:EDT
DTSTART:20260308T020000
TZOFFSETFROM:-0500
TZOFFSETTO:-0400
RDATE:20270314T020000
END:DAYLIGHT
END:VTIMEZONE
BEGIN:VEVENT
UID:cd65d431-4366-4667-8303-aefd3d6ecdec
DTSTAMP:20260422T104619Z
DESCRIPTION:
DTSTART;TZID=America/New_York:20260701T123000
DTEND;TZID=America/New_York:20260701T133000
LOCATION:32 S. Maple Ave\, Basking Ridge\, NJ 07920 US
SUMMARY:Blood pressure Screening Bernards Library
END:VEVENT
END:VCALENDAR
