BEGIN:VCALENDAR
VERSION:2.0
PRODID:-//communityvna.org//NONSGML kigkonsult.se iCalcreator 2.30.10//
CALSCALE:GREGORIAN
METHOD:PUBLISH
UID:18c5643d-800a-49dc-ab61-a033be842563
X-WR-CALDESC:
X-WR-RELCALID:907003d82bc9232cc6ed83f6f458dabc
X-WR-TIMEZONE:America/New_York
BEGIN:VTIMEZONE
TZID:America/New_York
BEGIN:STANDARD
TZNAME:EST
DTSTART:20251102T020000
TZOFFSETFROM:-0400
TZOFFSETTO:-0500
RDATE:20261101T020000
RDATE:20271107T020000
END:STANDARD
BEGIN:DAYLIGHT
TZNAME:EDT
DTSTART:20260308T020000
TZOFFSETFROM:-0500
TZOFFSETTO:-0400
RDATE:20270314T020000
END:DAYLIGHT
END:VTIMEZONE
BEGIN:VEVENT
UID:28d7950b-9a04-4eaf-94d2-730988658eda
DTSTAMP:20260422T105058Z
DESCRIPTION:
DTSTART;TZID=America/New_York:20260701T110000
DTEND;TZID=America/New_York:20260701T120000
LOCATION:700 Valley Rd\, Stirling\, NJ 07980 US
SUMMARY:Blood pressure Screening Lounsberry Stirling
END:VEVENT
END:VCALENDAR
