BEGIN:VCALENDAR
VERSION:2.0
PRODID:-//communityvna.org//NONSGML kigkonsult.se iCalcreator 2.30.10//
CALSCALE:GREGORIAN
METHOD:PUBLISH
UID:c4c603dc-1d8a-467c-88a2-c8ef0520a6a4
X-WR-CALDESC:
X-WR-RELCALID:457a585e26671698fca08d01fba4aa0c
X-WR-TIMEZONE:America/New_York
BEGIN:VTIMEZONE
TZID:America/New_York
BEGIN:STANDARD
TZNAME:EST
DTSTART:20251102T020000
TZOFFSETFROM:-0400
TZOFFSETTO:-0500
RDATE:20261101T020000
RDATE:20271107T020000
END:STANDARD
BEGIN:DAYLIGHT
TZNAME:EDT
DTSTART:20260308T020000
TZOFFSETFROM:-0500
TZOFFSETTO:-0400
RDATE:20270314T020000
END:DAYLIGHT
END:VTIMEZONE
BEGIN:VEVENT
UID:8d854832-4a9e-4f9e-adb1-a11f2c827d24
DTSTAMP:20260422T104938Z
DESCRIPTION:
DTSTART;TZID=America/New_York:20260701T100000
DTEND;TZID=America/New_York:20260701T110000
LOCATION:769 Valley Rd\, Gilette\, NJ 07933 US
SUMMARY:Blood pressure Screening Long Hill Seniors
END:VEVENT
END:VCALENDAR
