BEGIN:VCALENDAR
VERSION:2.0
PRODID:-//communityvna.org//NONSGML kigkonsult.se iCalcreator 2.30.10//
CALSCALE:GREGORIAN
METHOD:PUBLISH
UID:1daa9122-28f1-4bdd-b45c-b036eb829d78
X-WR-CALDESC:
X-WR-RELCALID:6d7b617b89aaf811e45be3ba66df11a7
X-WR-TIMEZONE:America/New_York
BEGIN:VTIMEZONE
TZID:America/New_York
BEGIN:STANDARD
TZNAME:EST
DTSTART:20251102T020000
TZOFFSETFROM:-0400
TZOFFSETTO:-0500
RDATE:20261101T020000
RDATE:20271107T020000
END:STANDARD
BEGIN:DAYLIGHT
TZNAME:EDT
DTSTART:20260308T020000
TZOFFSETFROM:-0500
TZOFFSETTO:-0400
RDATE:20270314T020000
END:DAYLIGHT
END:VTIMEZONE
BEGIN:VEVENT
UID:5f99cc89-1b3c-4158-8064-8b32c02dbcf7
DTSTAMP:20260422T090415Z
DESCRIPTION:
DTSTART;TZID=America/New_York:20260625T083000
DTEND;TZID=America/New_York:20260625T113000
LOCATION:581 Bridgewater Ave.\, Bridgewater\, NJ 08807 US
SUMMARY:Child Health Clinic Bridgewater
END:VEVENT
END:VCALENDAR
