BEGIN:VCALENDAR
VERSION:2.0
PRODID:-//communityvna.org//NONSGML kigkonsult.se iCalcreator 2.30.10//
CALSCALE:GREGORIAN
METHOD:PUBLISH
UID:30b04e78-df60-450e-a846-76d6bfa3beff
X-WR-CALDESC:
X-WR-RELCALID:08c6db1b73740265727047b23922b73e
X-WR-TIMEZONE:America/New_York
BEGIN:VTIMEZONE
TZID:America/New_York
BEGIN:STANDARD
TZNAME:EST
DTSTART:20251102T020000
TZOFFSETFROM:-0400
TZOFFSETTO:-0500
RDATE:20261101T020000
RDATE:20271107T020000
END:STANDARD
BEGIN:DAYLIGHT
TZNAME:EDT
DTSTART:20260308T020000
TZOFFSETFROM:-0500
TZOFFSETTO:-0400
RDATE:20270314T020000
END:DAYLIGHT
END:VTIMEZONE
BEGIN:VEVENT
UID:cccbc326-0f43-4541-85a0-1ab97f9ab0bd
DTSTAMP:20260422T091204Z
DESCRIPTION:
DTSTART;TZID=America/New_York:20260618T083000
DTEND;TZID=America/New_York:20260618T113000
LOCATION:379 S Branch Rd\, Hillsborough Twp\, NJ 08844 US
SUMMARY:Child Health Clinic Hillsborough
END:VEVENT
END:VCALENDAR
