BEGIN:VCALENDAR
VERSION:2.0
PRODID:-//communityvna.org//NONSGML kigkonsult.se iCalcreator 2.30.10//
CALSCALE:GREGORIAN
METHOD:PUBLISH
UID:ff8c5a1b-230c-4720-917f-c592826fa53b
X-WR-CALDESC:
X-WR-RELCALID:09620dc71ae48f6d018aa941a11aefe8
X-WR-TIMEZONE:America/New_York
BEGIN:VTIMEZONE
TZID:America/New_York
BEGIN:STANDARD
TZNAME:EST
DTSTART:20251102T020000
TZOFFSETFROM:-0400
TZOFFSETTO:-0500
RDATE:20261101T020000
RDATE:20271107T020000
END:STANDARD
BEGIN:DAYLIGHT
TZNAME:EDT
DTSTART:20260308T020000
TZOFFSETFROM:-0500
TZOFFSETTO:-0400
RDATE:20270314T020000
END:DAYLIGHT
END:VTIMEZONE
BEGIN:VEVENT
UID:3527fe6c-e758-4993-9fae-be8afa49a21f
DTSTAMP:20260422T090138Z
DESCRIPTION:
DTSTART;TZID=America/New_York:20260603T110000
DTEND;TZID=America/New_York:20260603T120000
LOCATION:700 Valley Rd\, Stirling\, NJ 07980 US
SUMMARY:Blood pressure Screening Lounsberry Stirling
END:VEVENT
END:VCALENDAR
