BEGIN:VCALENDAR
VERSION:2.0
PRODID:-//communityvna.org//NONSGML kigkonsult.se iCalcreator 2.30.10//
CALSCALE:GREGORIAN
METHOD:PUBLISH
UID:da804a90-ee7c-4cdf-af4e-be87f65d2d02
X-WR-CALDESC:
X-WR-RELCALID:0ec09933e6dd5d939868a88b5fd5a7fd
X-WR-TIMEZONE:America/New_York
BEGIN:VTIMEZONE
TZID:America/New_York
BEGIN:STANDARD
TZNAME:EST
DTSTART:20251102T020000
TZOFFSETFROM:-0400
TZOFFSETTO:-0500
RDATE:20261101T020000
RDATE:20271107T020000
END:STANDARD
BEGIN:DAYLIGHT
TZNAME:EDT
DTSTART:20260308T020000
TZOFFSETFROM:-0500
TZOFFSETTO:-0400
RDATE:20270314T020000
END:DAYLIGHT
END:VTIMEZONE
BEGIN:VEVENT
UID:cfb5b88e-0496-4c5d-b36c-a6262228736a
DTSTAMP:20260422T090938Z
DESCRIPTION:
DTSTART;TZID=America/New_York:20260603T100000
DTEND;TZID=America/New_York:20260603T110000
LOCATION:769 Valley Rd\, Gilette\, NJ 07933 US
SUMMARY:Blood pressure Screening Long Hill Seniors
END:VEVENT
END:VCALENDAR
