BEGIN:VCALENDAR
VERSION:2.0
PRODID:-//communityvna.org//NONSGML kigkonsult.se iCalcreator 2.30.10//
CALSCALE:GREGORIAN
METHOD:PUBLISH
UID:110285a7-f878-4807-a922-4eb2a0a721e2
X-WR-CALDESC:
X-WR-RELCALID:ce0391da95ccc01f8ebb8f391990fbfe
X-WR-TIMEZONE:America/New_York
BEGIN:VTIMEZONE
TZID:America/New_York
BEGIN:STANDARD
TZNAME:EST
DTSTART:20251102T020000
TZOFFSETFROM:-0400
TZOFFSETTO:-0500
RDATE:20261101T020000
RDATE:20271107T020000
END:STANDARD
BEGIN:DAYLIGHT
TZNAME:EDT
DTSTART:20260308T020000
TZOFFSETFROM:-0500
TZOFFSETTO:-0400
RDATE:20270314T020000
END:DAYLIGHT
END:VTIMEZONE
BEGIN:VEVENT
UID:be5eccdd-984c-48fa-b06c-95fd73410835
DTSTAMP:20260422T085108Z
DESCRIPTION:
DTSTART;TZID=America/New_York:20260601T110000
DTEND;TZID=America/New_York:20260601T120000
LOCATION:491 Shasta Drive\, Bridgewaer\, NJ 08807 US
SUMMARY:Blood pressure Screening Centerbridge 1
END:VEVENT
END:VCALENDAR
