BEGIN:VCALENDAR
VERSION:2.0
PRODID:-//communityvna.org//NONSGML kigkonsult.se iCalcreator 2.30.10//
CALSCALE:GREGORIAN
METHOD:PUBLISH
UID:ec2d674a-4e6f-47db-9be5-02f8f19a608f
X-WR-CALDESC:
X-WR-RELCALID:bfd29bec52accfef336fceef3aaa3ffe
X-WR-TIMEZONE:America/New_York
BEGIN:VTIMEZONE
TZID:America/New_York
BEGIN:STANDARD
TZNAME:EST
DTSTART:20251102T020000
TZOFFSETFROM:-0400
TZOFFSETTO:-0500
RDATE:20261101T020000
RDATE:20271107T020000
END:STANDARD
BEGIN:DAYLIGHT
TZNAME:EDT
DTSTART:20260308T020000
TZOFFSETFROM:-0500
TZOFFSETTO:-0400
RDATE:20270314T020000
END:DAYLIGHT
END:VTIMEZONE
BEGIN:VEVENT
UID:76eae7ed-88d1-42f3-8631-5207552664d7
DTSTAMP:20260420T064323Z
DESCRIPTION:
DTSTART;TZID=America/New_York:20260512T120000
DTEND;TZID=America/New_York:20260512T130000
LOCATION:Chester Area Senior Housing\, 1 Cole Court\, Chester\, NJ 07930 US
SUMMARY:Blood pressure Screening Chester (CASH)
END:VEVENT
END:VCALENDAR
