BEGIN:VCALENDAR
VERSION:2.0
PRODID:-//communityvna.org//NONSGML kigkonsult.se iCalcreator 2.30.10//
CALSCALE:GREGORIAN
METHOD:PUBLISH
UID:b711f0b5-62d5-4dd4-97cc-a21cc292ff6e
X-WR-CALDESC:
X-WR-RELCALID:224ef84eb25b7372e6658784d8ea7543
X-WR-TIMEZONE:America/New_York
BEGIN:VTIMEZONE
TZID:America/New_York
BEGIN:STANDARD
TZNAME:EST
DTSTART:20251102T020000
TZOFFSETFROM:-0400
TZOFFSETTO:-0500
RDATE:20261101T020000
RDATE:20271107T020000
END:STANDARD
BEGIN:DAYLIGHT
TZNAME:EDT
DTSTART:20260308T020000
TZOFFSETFROM:-0500
TZOFFSETTO:-0400
RDATE:20270314T020000
END:DAYLIGHT
END:VTIMEZONE
BEGIN:VEVENT
UID:4ded8b5d-ed6a-4b62-9a36-4985e69537ab
DTSTAMP:20260420T064057Z
DESCRIPTION:
DTSTART;TZID=America/New_York:20260511T110000
DTEND;TZID=America/New_York:20260511T120000
LOCATION:Mendham Area Senior Center Garabrant Center\, 4 Wilson St\, Mendha
 m\, NJ 07945 US
SUMMARY:Blood pressure Screening Mendham
END:VEVENT
END:VCALENDAR
