BEGIN:VCALENDAR
VERSION:2.0
PRODID:-//communityvna.org//NONSGML kigkonsult.se iCalcreator 2.30.10//
CALSCALE:GREGORIAN
METHOD:PUBLISH
UID:d351eb33-efb8-496c-97f0-e2544c9af87e
X-WR-CALDESC:
X-WR-RELCALID:cc58834d8a0cdebd79eb4a342759b97c
X-WR-TIMEZONE:America/New_York
BEGIN:VTIMEZONE
TZID:America/New_York
BEGIN:STANDARD
TZNAME:EST
DTSTART:20251102T020000
TZOFFSETFROM:-0400
TZOFFSETTO:-0500
RDATE:20261101T020000
END:STANDARD
BEGIN:DAYLIGHT
TZNAME:EDT
DTSTART:20260308T020000
TZOFFSETFROM:-0500
TZOFFSETTO:-0400
RDATE:20270314T020000
END:DAYLIGHT
END:VTIMEZONE
BEGIN:VEVENT
UID:842a9083-460d-4855-b987-ab47ba8cd3e2
DTSTAMP:20260420T064010Z
DESCRIPTION:
DTSTART;TZID=America/New_York:20260506T123000
DTEND;TZID=America/New_York:20260506T133000
LOCATION:32 S. Maple Ave\, Basking Ridge\, NJ 07920 US
SUMMARY:Blood pressure Screening Bernards Library
END:VEVENT
END:VCALENDAR
