BEGIN:VCALENDAR
VERSION:2.0
PRODID:-//communityvna.org//NONSGML kigkonsult.se iCalcreator 2.30.10//
CALSCALE:GREGORIAN
METHOD:PUBLISH
UID:994e9006-1550-4e42-9d3b-b47793c011dd
X-WR-CALDESC:
X-WR-RELCALID:92c427e380f978b8f402c92004ecad37
X-WR-TIMEZONE:America/New_York
BEGIN:VTIMEZONE
TZID:America/New_York
BEGIN:STANDARD
TZNAME:EST
DTSTART:20251102T020000
TZOFFSETFROM:-0400
TZOFFSETTO:-0500
RDATE:20261101T020000
END:STANDARD
BEGIN:DAYLIGHT
TZNAME:EDT
DTSTART:20260308T020000
TZOFFSETFROM:-0500
TZOFFSETTO:-0400
RDATE:20270314T020000
END:DAYLIGHT
END:VTIMEZONE
BEGIN:VEVENT
UID:b787e5c5-3030-42f8-a5f5-9d546d50c715
DTSTAMP:20260420T064221Z
DESCRIPTION:
DTSTART;TZID=America/New_York:20260506T110000
DTEND;TZID=America/New_York:20260506T120000
LOCATION:700 Valley Rd\, Stirling\, NJ 07980 US
SUMMARY:Blood pressure Screening Lounsberry Stirling
END:VEVENT
END:VCALENDAR
