BEGIN:VCALENDAR
VERSION:2.0
PRODID:-//communityvna.org//NONSGML kigkonsult.se iCalcreator 2.30.10//
CALSCALE:GREGORIAN
METHOD:PUBLISH
UID:4faae1c9-9e45-45a5-b9c1-5b568fff8823
X-WR-CALDESC:
X-WR-RELCALID:10744d75198e1d6eb812dcf52cb9c780
X-WR-TIMEZONE:America/New_York
BEGIN:VTIMEZONE
TZID:America/New_York
BEGIN:STANDARD
TZNAME:EST
DTSTART:20251102T020000
TZOFFSETFROM:-0400
TZOFFSETTO:-0500
RDATE:20261101T020000
END:STANDARD
BEGIN:DAYLIGHT
TZNAME:EDT
DTSTART:20260308T020000
TZOFFSETFROM:-0500
TZOFFSETTO:-0400
RDATE:20270314T020000
END:DAYLIGHT
END:VTIMEZONE
BEGIN:VEVENT
UID:39f707fe-09dc-49e6-a556-c6a258c1a49e
DTSTAMP:20260420T064221Z
DESCRIPTION:
DTSTART;TZID=America/New_York:20260506T100000
DTEND;TZID=America/New_York:20260506T110000
LOCATION:769 Valley Rd\, Gilette\, NJ 07933 US
SUMMARY:Blood pressure Screening Long Hill Seniors
END:VEVENT
END:VCALENDAR
