BEGIN:VCALENDAR
VERSION:2.0
PRODID:-//communityvna.org//NONSGML kigkonsult.se iCalcreator 2.30.10//
CALSCALE:GREGORIAN
METHOD:PUBLISH
UID:cad1f6a6-2284-4e10-8b0a-48d589b67237
X-WR-CALDESC:
X-WR-RELCALID:83d70c9e4349cbf0c87abbf08fed9294
X-WR-TIMEZONE:America/New_York
BEGIN:VTIMEZONE
TZID:America/New_York
BEGIN:STANDARD
TZNAME:EST
DTSTART:20251102T020000
TZOFFSETFROM:-0400
TZOFFSETTO:-0500
RDATE:20261101T020000
END:STANDARD
BEGIN:DAYLIGHT
TZNAME:EDT
DTSTART:20260308T020000
TZOFFSETFROM:-0500
TZOFFSETTO:-0400
RDATE:20270314T020000
END:DAYLIGHT
END:VTIMEZONE
BEGIN:VEVENT
UID:0e93c404-0b8a-4419-ad00-86449e11d936
DTSTAMP:20260420T064243Z
DESCRIPTION:
DTSTART;TZID=America/New_York:20260428T120000
DTEND;TZID=America/New_York:20260428T130000
LOCATION:Chester Area Senior Housing\, 1 Cole Court\, Chester\, NJ 07930 US
SUMMARY:Blood pressure Screening Chester (CASH)
END:VEVENT
END:VCALENDAR
