BEGIN:VCALENDAR
VERSION:2.0
PRODID:-//communityvna.org//NONSGML kigkonsult.se iCalcreator 2.30.10//
CALSCALE:GREGORIAN
METHOD:PUBLISH
UID:46501d0f-15b5-461b-b096-68997538f38a
X-WR-CALDESC:
X-WR-RELCALID:3512ba893ffaa9eec4eb7e5992c3d248
X-WR-TIMEZONE:America/New_York
BEGIN:VTIMEZONE
TZID:America/New_York
BEGIN:STANDARD
TZNAME:EST
DTSTART:20251102T020000
TZOFFSETFROM:-0400
TZOFFSETTO:-0500
RDATE:20261101T020000
END:STANDARD
BEGIN:DAYLIGHT
TZNAME:EDT
DTSTART:20260308T020000
TZOFFSETFROM:-0500
TZOFFSETTO:-0400
RDATE:20270314T020000
END:DAYLIGHT
END:VTIMEZONE
BEGIN:VEVENT
UID:40bdbf64-3a3a-4ace-afa1-1ae0e042312d
DTSTAMP:20260420T045620Z
DESCRIPTION:
DTSTART;TZID=America/New_York:20260401T123000
DTEND;TZID=America/New_York:20260401T133000
LOCATION:32 S. Maple Ave\, Basking Ridge\, NJ 07920 US
SUMMARY:Blood pressure Screening Bernards Library
END:VEVENT
END:VCALENDAR
