BEGIN:VCALENDAR
VERSION:2.0
PRODID:-//communityvna.org//NONSGML kigkonsult.se iCalcreator 2.30.10//
CALSCALE:GREGORIAN
METHOD:PUBLISH
UID:5685d793-0928-4855-9d09-e61d798391b6
X-WR-CALDESC:
X-WR-RELCALID:f6346871cdbc3eb94c5d4cd6eef37399
X-WR-TIMEZONE:America/New_York
BEGIN:VTIMEZONE
TZID:America/New_York
BEGIN:STANDARD
TZNAME:EST
DTSTART:20251102T020000
TZOFFSETFROM:-0400
TZOFFSETTO:-0500
RDATE:20261101T020000
END:STANDARD
BEGIN:DAYLIGHT
TZNAME:EDT
DTSTART:20260308T020000
TZOFFSETFROM:-0500
TZOFFSETTO:-0400
RDATE:20270314T020000
END:DAYLIGHT
END:VTIMEZONE
BEGIN:VEVENT
UID:1de0a1b9-e0c9-4098-9108-758b1f72e3c7
DTSTAMP:20260420T045921Z
DESCRIPTION:
DTSTART;TZID=America/New_York:20260401T110000
DTEND;TZID=America/New_York:20260401T120000
LOCATION:700 Valley Rd\, Stirling\, NJ 07980 US
SUMMARY:Blood pressure Screening Lounsberry Stirling
END:VEVENT
END:VCALENDAR
