BEGIN:VCALENDAR
VERSION:2.0
PRODID:-//communityvna.org//NONSGML kigkonsult.se iCalcreator 2.30.10//
CALSCALE:GREGORIAN
METHOD:PUBLISH
UID:b672bd59-ccc7-4da9-bcd5-9016c43824d8
X-WR-CALDESC:
X-WR-RELCALID:facd8c6c8a2b955f42124cf471afdacb
X-WR-TIMEZONE:America/New_York
BEGIN:VTIMEZONE
TZID:America/New_York
BEGIN:STANDARD
TZNAME:EST
DTSTART:20251102T020000
TZOFFSETFROM:-0400
TZOFFSETTO:-0500
RDATE:20261101T020000
END:STANDARD
BEGIN:DAYLIGHT
TZNAME:EDT
DTSTART:20260308T020000
TZOFFSETFROM:-0500
TZOFFSETTO:-0400
RDATE:20270314T020000
END:DAYLIGHT
END:VTIMEZONE
BEGIN:VEVENT
UID:3676433c-767a-4c56-9829-f5f8ece85190
DTSTAMP:20260420T045847Z
DESCRIPTION:
DTSTART;TZID=America/New_York:20260401T100000
DTEND;TZID=America/New_York:20260401T110000
LOCATION:769 Valley Rd\, Gilette\, NJ 07933 US
SUMMARY:Blood pressure Screening Long Hill Seniors
END:VEVENT
END:VCALENDAR
