BEGIN:VCALENDAR
VERSION:2.0
PRODID:-//communityvna.org//NONSGML kigkonsult.se iCalcreator 2.30.10//
CALSCALE:GREGORIAN
METHOD:PUBLISH
UID:0c814345-944a-4022-b4c8-4dc29f8e3b6d
X-WR-CALDESC:
X-WR-RELCALID:1b4d41181856704ada6e493083380bf1
X-WR-TIMEZONE:America/New_York
BEGIN:VTIMEZONE
TZID:America/New_York
BEGIN:STANDARD
TZNAME:EST
DTSTART:20251102T020000
TZOFFSETFROM:-0400
TZOFFSETTO:-0500
RDATE:20261101T020000
END:STANDARD
BEGIN:DAYLIGHT
TZNAME:EDT
DTSTART:20250309T020000
TZOFFSETFROM:-0500
TZOFFSETTO:-0400
RDATE:20260308T020000
RDATE:20270314T020000
END:DAYLIGHT
END:VTIMEZONE
BEGIN:VEVENT
UID:7103043f-686f-4ab0-892c-d5a51613b8d8
DTSTAMP:20260422T091925Z
DESCRIPTION:
DTSTART;TZID=America/New_York:20260224T110000
DTEND;TZID=America/New_York:20260224T120000
LOCATION:Chester Senior Resource Center\, 50 County Rd 513\, Chester\, NJ 0
 7930 US
SUMMARY:Blood pressure Screening Chester Seniors
END:VEVENT
END:VCALENDAR
