BEGIN:VCALENDAR
VERSION:2.0
PRODID:-//communityvna.org//NONSGML kigkonsult.se iCalcreator 2.30.10//
CALSCALE:GREGORIAN
METHOD:PUBLISH
UID:c03e9fdf-7c23-4095-b63c-b9ce6e076cb1
X-WR-CALDESC:
X-WR-RELCALID:077b0734344b60da10db3d59f84ef2ae
X-WR-TIMEZONE:America/New_York
BEGIN:VTIMEZONE
TZID:America/New_York
BEGIN:STANDARD
TZNAME:EST
DTSTART:20251102T020000
TZOFFSETFROM:-0400
TZOFFSETTO:-0500
RDATE:20261101T020000
END:STANDARD
BEGIN:DAYLIGHT
TZNAME:EDT
DTSTART:20250309T020000
TZOFFSETFROM:-0500
TZOFFSETTO:-0400
RDATE:20260308T020000
RDATE:20270314T020000
END:DAYLIGHT
END:VTIMEZONE
BEGIN:VEVENT
UID:1932927e-f1c5-4968-9dab-7c23a0b50f8c
DTSTAMP:20260420T083145Z
DESCRIPTION:
DTSTART;TZID=America/New_York:20260223T123000
DTEND;TZID=America/New_York:20260223T133000
LOCATION:1 School Street\, Peapack\, NJ 07977 US
SUMMARY:Blood pressure Screening Peapack/Gladstone
END:VEVENT
END:VCALENDAR
