BEGIN:VCALENDAR
VERSION:2.0
PRODID:-//communityvna.org//NONSGML kigkonsult.se iCalcreator 2.30.10//
CALSCALE:GREGORIAN
METHOD:PUBLISH
UID:bbe25eee-3264-4710-827d-5c6be4318166
X-WR-CALDESC:
X-WR-RELCALID:3461b9b9b892895742e4a4be0b138fd9
X-WR-TIMEZONE:America/New_York
BEGIN:VTIMEZONE
TZID:America/New_York
BEGIN:STANDARD
TZNAME:EST
DTSTART:20251102T020000
TZOFFSETFROM:-0400
TZOFFSETTO:-0500
RDATE:20261101T020000
END:STANDARD
BEGIN:DAYLIGHT
TZNAME:EDT
DTSTART:20250309T020000
TZOFFSETFROM:-0500
TZOFFSETTO:-0400
RDATE:20260308T020000
RDATE:20270314T020000
END:DAYLIGHT
END:VTIMEZONE
BEGIN:VEVENT
UID:7bdf2c9f-d171-4eb8-aaf3-42c05fbc32a5
DTSTAMP:20260424T091302Z
DESCRIPTION:
DTSTART;TZID=America/New_York:20260219T083000
DTEND;TZID=America/New_York:20260219T113000
LOCATION:379 S Branch Rd\, Hillsborough Twp\, NJ 08844 US
SUMMARY:Child Health Clinic Hillsborough
END:VEVENT
END:VCALENDAR
