BEGIN:VCALENDAR
VERSION:2.0
PRODID:-//communityvna.org//NONSGML kigkonsult.se iCalcreator 2.30.10//
CALSCALE:GREGORIAN
METHOD:PUBLISH
UID:093d0925-1d82-43d8-a810-cca80f79c47e
X-WR-CALDESC:
X-WR-RELCALID:dcd4b08218e1b747a5b0b5d078d7980a
X-WR-TIMEZONE:America/New_York
BEGIN:VTIMEZONE
TZID:America/New_York
BEGIN:STANDARD
TZNAME:EST
DTSTART:20251102T020000
TZOFFSETFROM:-0400
TZOFFSETTO:-0500
RDATE:20261101T020000
END:STANDARD
BEGIN:DAYLIGHT
TZNAME:EDT
DTSTART:20250309T020000
TZOFFSETFROM:-0500
TZOFFSETTO:-0400
RDATE:20260308T020000
RDATE:20270314T020000
END:DAYLIGHT
END:VTIMEZONE
BEGIN:VEVENT
UID:3920fdb5-bf87-4bd1-85ec-c570cb8f871a
DTSTAMP:20260420T083527Z
DESCRIPTION:
DTSTART;TZID=America/New_York:20260210T103000
DTEND;TZID=America/New_York:20260210T120000
LOCATION:455 Somerville Rd\,\, Bridgewater\, NJ 08807 US
SUMMARY:Blood pressure Screening Bridgewater
END:VEVENT
END:VCALENDAR
