BEGIN:VCALENDAR
VERSION:2.0
PRODID:-//communityvna.org//NONSGML kigkonsult.se iCalcreator 2.30.10//
CALSCALE:GREGORIAN
METHOD:PUBLISH
UID:87003896-50b3-4f24-8a8f-fd669be71c6a
X-WR-CALDESC:
X-WR-RELCALID:d34c9c99e1bbfca184c304bdf717a0a0
X-WR-TIMEZONE:America/New_York
BEGIN:VTIMEZONE
TZID:America/New_York
BEGIN:STANDARD
TZNAME:EST
DTSTART:20251102T020000
TZOFFSETFROM:-0400
TZOFFSETTO:-0500
RDATE:20261101T020000
END:STANDARD
BEGIN:DAYLIGHT
TZNAME:EDT
DTSTART:20250309T020000
TZOFFSETFROM:-0500
TZOFFSETTO:-0400
RDATE:20260308T020000
RDATE:20270314T020000
END:DAYLIGHT
END:VTIMEZONE
BEGIN:VEVENT
UID:44969235-6ae3-4515-9429-9fc45106b482
DTSTAMP:20260422T091620Z
DESCRIPTION:
DTSTART;TZID=America/New_York:20260209T110000
DTEND;TZID=America/New_York:20260209T120000
LOCATION:Mendham Area Senior Center Garabrant Center\, 4 Wilson St\, Mendha
 m\, NJ 07945 US
SUMMARY:Blood pressure Screening Mendham
END:VEVENT
END:VCALENDAR
