BEGIN:VCALENDAR
VERSION:2.0
PRODID:-//communityvna.org//NONSGML kigkonsult.se iCalcreator 2.30.10//
CALSCALE:GREGORIAN
METHOD:PUBLISH
UID:076fe464-9cf8-468d-af8d-14875ca0821e
X-WR-CALDESC:
X-WR-RELCALID:f5fac08c15e05d1bb4dab2cbd94071a6
X-WR-TIMEZONE:America/New_York
BEGIN:VTIMEZONE
TZID:America/New_York
BEGIN:STANDARD
TZNAME:EST
DTSTART:20251102T020000
TZOFFSETFROM:-0400
TZOFFSETTO:-0500
RDATE:20261101T020000
END:STANDARD
BEGIN:DAYLIGHT
TZNAME:EDT
DTSTART:20250309T020000
TZOFFSETFROM:-0500
TZOFFSETTO:-0400
RDATE:20260308T020000
RDATE:20270314T020000
END:DAYLIGHT
END:VTIMEZONE
BEGIN:VEVENT
UID:3088edf0-b9e1-4126-a137-67c070994ccb
DTSTAMP:20260420T083144Z
DESCRIPTION:
DTSTART;TZID=America/New_York:20260205T083000
DTEND;TZID=America/New_York:20260205T113000
LOCATION:581 Bridgewater Ave.\, Bridgewater\, NJ 08807 US
SUMMARY:Child Health Clinic Bridgewater
END:VEVENT
END:VCALENDAR
