BEGIN:VCALENDAR
VERSION:2.0
PRODID:-//communityvna.org//NONSGML kigkonsult.se iCalcreator 2.30.10//
CALSCALE:GREGORIAN
METHOD:PUBLISH
UID:d064c58f-c71c-4001-905f-63ef39778ebf
X-WR-CALDESC:
X-WR-RELCALID:58d35afc1f63eeeb06f4de2b3d4b58f9
X-WR-TIMEZONE:America/New_York
BEGIN:VTIMEZONE
TZID:America/New_York
BEGIN:STANDARD
TZNAME:EST
DTSTART:20251102T020000
TZOFFSETFROM:-0400
TZOFFSETTO:-0500
RDATE:20261101T020000
END:STANDARD
BEGIN:DAYLIGHT
TZNAME:EDT
DTSTART:20250309T020000
TZOFFSETFROM:-0500
TZOFFSETTO:-0400
RDATE:20260308T020000
RDATE:20270314T020000
END:DAYLIGHT
END:VTIMEZONE
BEGIN:VEVENT
UID:f6782ad6-5a11-4260-a78d-4fddfaf8a2a4
DTSTAMP:20260420T083527Z
DESCRIPTION:
DTSTART;TZID=America/New_York:20260203T120000
DTEND;TZID=America/New_York:20260203T130000
LOCATION:1 Anderson Hill Rd\, Bernardsville\, NJ 07924 US
SUMMARY:Blood pressure Screening Bernardsville Library
END:VEVENT
END:VCALENDAR
