BEGIN:VCALENDAR
VERSION:2.0
PRODID:-//communityvna.org//NONSGML kigkonsult.se iCalcreator 2.30.10//
CALSCALE:GREGORIAN
METHOD:PUBLISH
UID:bf450f5d-c68c-4587-851c-c4d8df765f65
X-WR-CALDESC:
X-WR-RELCALID:d965e9a48c6df04f50ca8bc24238c356
X-WR-TIMEZONE:America/New_York
BEGIN:VTIMEZONE
TZID:America/New_York
BEGIN:STANDARD
TZNAME:EST
DTSTART:20251102T020000
TZOFFSETFROM:-0400
TZOFFSETTO:-0500
RDATE:20261101T020000
END:STANDARD
BEGIN:DAYLIGHT
TZNAME:EDT
DTSTART:20250309T020000
TZOFFSETFROM:-0500
TZOFFSETTO:-0400
RDATE:20260308T020000
RDATE:20270314T020000
END:DAYLIGHT
END:VTIMEZONE
BEGIN:VEVENT
UID:4bd1679c-fbb2-459e-b692-da70ecac9672
DTSTAMP:20260424T103352Z
DESCRIPTION:
DTSTART;TZID=America/New_York:20260127T110000
DTEND;TZID=America/New_York:20260127T120000
LOCATION:Chester Senior Resource Center\, 50 County Rd 513\, Chester\, NJ 0
 7930 US
SUMMARY:Blood pressure Screening Chester Seniors
END:VEVENT
END:VCALENDAR
