BEGIN:VCALENDAR
VERSION:2.0
PRODID:-//communityvna.org//NONSGML kigkonsult.se iCalcreator 2.30.10//
CALSCALE:GREGORIAN
METHOD:PUBLISH
UID:39e11cc4-fbe1-4f54-9f16-6959ab3237d5
X-WR-CALDESC:
X-WR-RELCALID:3b0e20732b3e78663ff383f28e552225
X-WR-TIMEZONE:America/New_York
BEGIN:VTIMEZONE
TZID:America/New_York
BEGIN:STANDARD
TZNAME:EST
DTSTART:20251102T020000
TZOFFSETFROM:-0400
TZOFFSETTO:-0500
RDATE:20261101T020000
END:STANDARD
BEGIN:DAYLIGHT
TZNAME:EDT
DTSTART:20250309T020000
TZOFFSETFROM:-0500
TZOFFSETTO:-0400
RDATE:20260308T020000
RDATE:20270314T020000
END:DAYLIGHT
END:VTIMEZONE
BEGIN:VEVENT
UID:54d056ac-6f2b-4b44-b3e1-1a17f10fa680
DTSTAMP:20260422T090326Z
DESCRIPTION:
DTSTART;TZID=America/New_York:20260126T123000
DTEND;TZID=America/New_York:20260126T133000
LOCATION:Peapack/Gladstone Municipal Building\, 1 School Street\, Peapack\,
  NJ 07977 US
SUMMARY:Blood pressure Screening Peapack/Gladstone
END:VEVENT
END:VCALENDAR
