BEGIN:VCALENDAR
VERSION:2.0
PRODID:-//communityvna.org//NONSGML kigkonsult.se iCalcreator 2.30.10//
CALSCALE:GREGORIAN
METHOD:PUBLISH
UID:447559be-3280-4375-80b6-ac03b664aeb6
X-WR-CALDESC:
X-WR-RELCALID:32374e0b2a54fe0bc5aaf73e24b23517
X-WR-TIMEZONE:America/New_York
BEGIN:VTIMEZONE
TZID:America/New_York
BEGIN:STANDARD
TZNAME:EST
DTSTART:20251102T020000
TZOFFSETFROM:-0400
TZOFFSETTO:-0500
RDATE:20261101T020000
END:STANDARD
BEGIN:DAYLIGHT
TZNAME:EDT
DTSTART:20250309T020000
TZOFFSETFROM:-0500
TZOFFSETTO:-0400
RDATE:20260308T020000
RDATE:20270314T020000
END:DAYLIGHT
END:VTIMEZONE
BEGIN:VEVENT
UID:64a0ed6d-88df-4d37-850c-0ea2c58eceb7
DTSTAMP:20260424T103100Z
DESCRIPTION:
DTSTART;TZID=America/New_York:20260112T110000
DTEND;TZID=America/New_York:20260112T120000
LOCATION:Mendham Area Senior Center Garabrant Center\, 4 Wilson St\, Mendha
 m\, NJ 07945 US
SUMMARY:Blood pressure Screening Mendham
END:VEVENT
END:VCALENDAR
