BEGIN:VCALENDAR
VERSION:2.0
PRODID:-//communityvna.org//NONSGML kigkonsult.se iCalcreator 2.30.10//
CALSCALE:GREGORIAN
METHOD:PUBLISH
UID:d0df45ff-b7eb-4726-b737-f67819fb96f7
X-WR-CALDESC:
X-WR-RELCALID:f3199db38cf373704f36cd38fe9a9631
X-WR-TIMEZONE:America/New_York
BEGIN:VTIMEZONE
TZID:America/New_York
BEGIN:STANDARD
TZNAME:EST
DTSTART:20251102T020000
TZOFFSETFROM:-0400
TZOFFSETTO:-0500
RDATE:20261101T020000
END:STANDARD
BEGIN:DAYLIGHT
TZNAME:EDT
DTSTART:20250309T020000
TZOFFSETFROM:-0500
TZOFFSETTO:-0400
RDATE:20260308T020000
RDATE:20270314T020000
END:DAYLIGHT
END:VTIMEZONE
BEGIN:VEVENT
UID:9442ffec-443d-48ca-aebb-9bfbf7b14ff1
DTSTAMP:20260422T104551Z
DESCRIPTION:
DTSTART;TZID=America/New_York:20260107T123000
DTEND;TZID=America/New_York:20260107T133000
LOCATION:32 S. Maple Ave\, Basking Ridge\, NJ 07920 US
SUMMARY:Bernards Library Blood Pressure Screening
END:VEVENT
END:VCALENDAR
