BEGIN:VCALENDAR
VERSION:2.0
PRODID:-//communityvna.org//NONSGML kigkonsult.se iCalcreator 2.30.10//
CALSCALE:GREGORIAN
METHOD:PUBLISH
UID:185dab25-972e-4aa2-86b2-380b14c4142e
X-WR-CALDESC:
X-WR-RELCALID:647687884d5f5ed48088b7a63c298a3f
X-WR-TIMEZONE:America/New_York
BEGIN:VTIMEZONE
TZID:America/New_York
BEGIN:STANDARD
TZNAME:EST
DTSTART:20251102T020000
TZOFFSETFROM:-0400
TZOFFSETTO:-0500
RDATE:20261101T020000
END:STANDARD
BEGIN:DAYLIGHT
TZNAME:EDT
DTSTART:20250309T020000
TZOFFSETFROM:-0500
TZOFFSETTO:-0400
RDATE:20260308T020000
RDATE:20270314T020000
END:DAYLIGHT
END:VTIMEZONE
BEGIN:VEVENT
UID:81e9e6bf-872c-4f1e-a3f3-d886aef8a6e3
DTSTAMP:20260422T101755Z
DESCRIPTION:
DTSTART;TZID=America/New_York:20260106T103000
DTEND;TZID=America/New_York:20260106T120000
LOCATION:Somerset Wellness\, 202 Mt Airy Rd\, Basking Ridge\, NJ 07920 US
SUMMARY:Blood pressure Screening Basking Ridge - Somerset Wellness
END:VEVENT
END:VCALENDAR
