BEGIN:VCALENDAR
VERSION:2.0
PRODID:-//communityvna.org//NONSGML kigkonsult.se iCalcreator 2.30.10//
CALSCALE:GREGORIAN
METHOD:PUBLISH
UID:c7ee0321-bccd-4331-a8c7-eec226e76e3d
X-WR-CALDESC:
X-WR-RELCALID:a4d90dd07fd02e19447c3c0f11116924
X-WR-TIMEZONE:America/New_York
BEGIN:VTIMEZONE
TZID:America/New_York
BEGIN:STANDARD
TZNAME:EST
DTSTART:20251102T020000
TZOFFSETFROM:-0400
TZOFFSETTO:-0500
RDATE:20261101T020000
END:STANDARD
BEGIN:DAYLIGHT
TZNAME:EDT
DTSTART:20250309T020000
TZOFFSETFROM:-0500
TZOFFSETTO:-0400
RDATE:20260308T020000
RDATE:20270314T020000
END:DAYLIGHT
END:VTIMEZONE
BEGIN:VEVENT
UID:9a922e86-70c7-404e-af8d-9b9a10642603
DTSTAMP:20260422T122849Z
DESCRIPTION:
DTSTART;TZID=America/New_York:20251223T110000
DTEND;TZID=America/New_York:20251223T120000
LOCATION:Chester Senior Resource Center\, 50 County Rd 513\, Chester\, NJ 0
 7930 US
SUMMARY:Blood pressure Screening Chester Seniors
END:VEVENT
END:VCALENDAR
