BEGIN:VCALENDAR
VERSION:2.0
PRODID:-//communityvna.org//NONSGML kigkonsult.se iCalcreator 2.30.10//
CALSCALE:GREGORIAN
METHOD:PUBLISH
UID:bb14c94d-767a-4553-9a13-c9bc272fdb6a
X-WR-CALDESC:
X-WR-RELCALID:d5f3f46ca669b98aa9dda7d18b76f9e2
X-WR-TIMEZONE:America/New_York
BEGIN:VTIMEZONE
TZID:America/New_York
BEGIN:STANDARD
TZNAME:EST
DTSTART:20251102T020000
TZOFFSETFROM:-0400
TZOFFSETTO:-0500
RDATE:20261101T020000
END:STANDARD
BEGIN:DAYLIGHT
TZNAME:EDT
DTSTART:20250309T020000
TZOFFSETFROM:-0500
TZOFFSETTO:-0400
RDATE:20260308T020000
RDATE:20270314T020000
END:DAYLIGHT
END:VTIMEZONE
BEGIN:VEVENT
UID:a2004fb0-5016-422f-81a3-f9974737d1bb
DTSTAMP:20260424T085605Z
DESCRIPTION:
DTSTART;TZID=America/New_York:20251211T083000
DTEND;TZID=America/New_York:20251211T103000
LOCATION:379 S Branch Rd\, Hillsborough Twp\, AL 08844 US
SUMMARY:Child Health Clinic Hillsborough
END:VEVENT
END:VCALENDAR
