BEGIN:VCALENDAR
VERSION:2.0
PRODID:-//communityvna.org//NONSGML kigkonsult.se iCalcreator 2.30.10//
CALSCALE:GREGORIAN
METHOD:PUBLISH
UID:91576903-1cd6-45b9-b0da-e1fb94d51c89
X-WR-CALDESC:
X-WR-RELCALID:b2503d3dbcd7e2e5192808d050082798
X-WR-TIMEZONE:America/New_York
BEGIN:VTIMEZONE
TZID:America/New_York
BEGIN:STANDARD
TZNAME:EST
DTSTART:20251102T020000
TZOFFSETFROM:-0400
TZOFFSETTO:-0500
RDATE:20261101T020000
END:STANDARD
BEGIN:DAYLIGHT
TZNAME:EDT
DTSTART:20250309T020000
TZOFFSETFROM:-0500
TZOFFSETTO:-0400
RDATE:20260308T020000
RDATE:20270314T020000
END:DAYLIGHT
END:VTIMEZONE
BEGIN:VEVENT
UID:f4f89f73-e3dd-4806-a9ac-dbcc1d2526b4
DTSTAMP:20260422T123048Z
DESCRIPTION:
DTSTART;TZID=America/New_York:20251209T103000
DTEND;TZID=America/New_York:20251209T120000
LOCATION:Bridgewater Senior Building\, 455 Somerville Rd\, Bridgewater\, NJ
  08807 US
SUMMARY:Blood pressure Screening Bridgewater
END:VEVENT
END:VCALENDAR
