BEGIN:VCALENDAR
VERSION:2.0
PRODID:-//communityvna.org//NONSGML kigkonsult.se iCalcreator 2.30.10//
CALSCALE:GREGORIAN
METHOD:PUBLISH
UID:a096e19e-b280-4197-a3f1-ffacb3a3c690
X-WR-CALDESC:
X-WR-RELCALID:e791dc9cfa3ef95bcc750edd705965d2
X-WR-TIMEZONE:America/New_York
BEGIN:VTIMEZONE
TZID:America/New_York
BEGIN:STANDARD
TZNAME:EST
DTSTART:20251102T020000
TZOFFSETFROM:-0400
TZOFFSETTO:-0500
RDATE:20261101T020000
END:STANDARD
BEGIN:DAYLIGHT
TZNAME:EDT
DTSTART:20250309T020000
TZOFFSETFROM:-0500
TZOFFSETTO:-0400
RDATE:20260308T020000
RDATE:20270314T020000
END:DAYLIGHT
END:VTIMEZONE
BEGIN:VEVENT
UID:ac8b4d12-e3f1-4136-80c8-1a2c2e1eb207
DTSTAMP:20260424T104934Z
DESCRIPTION:
DTSTART;TZID=America/New_York:20251202T103000
DTEND;TZID=America/New_York:20251202T120000
LOCATION:Somerset Wellness\, 202 Mt Airy Rd\, Basking Ridge\, NJ 07920 US
SUMMARY:Blood pressure Screening Basking Ridge - Somerset Wellness
END:VEVENT
END:VCALENDAR
