BEGIN:VCALENDAR
VERSION:2.0
PRODID:-//communityvna.org//NONSGML kigkonsult.se iCalcreator 2.30.10//
CALSCALE:GREGORIAN
METHOD:PUBLISH
UID:76297807-7ddb-487a-986f-38e87dfa2a8e
X-WR-CALDESC:
X-WR-RELCALID:40a6b65aa709d14650c0d7bac05da32c
X-WR-TIMEZONE:America/New_York
BEGIN:VTIMEZONE
TZID:America/New_York
BEGIN:STANDARD
TZNAME:EST
DTSTART:20251102T020000
TZOFFSETFROM:-0400
TZOFFSETTO:-0500
RDATE:20261101T020000
END:STANDARD
BEGIN:DAYLIGHT
TZNAME:EDT
DTSTART:20250309T020000
TZOFFSETFROM:-0500
TZOFFSETTO:-0400
RDATE:20260308T020000
RDATE:20270314T020000
END:DAYLIGHT
END:VTIMEZONE
BEGIN:VEVENT
UID:5d0a4657-1605-4181-8f36-5c74de7aa608
DTSTAMP:20260422T133128Z
DESCRIPTION:
DTSTART;TZID=America/New_York:20251125T103000
DTEND;TZID=America/New_York:20251125T120000
LOCATION:Bridgewater Senior Building\, 455 Somerville Rd\, Bridgewater\, NJ
  08807 US
SUMMARY:Blood pressure Screening Bridgewater
END:VEVENT
END:VCALENDAR
