BEGIN:VCALENDAR
VERSION:2.0
PRODID:-//communityvna.org//NONSGML kigkonsult.se iCalcreator 2.30.10//
CALSCALE:GREGORIAN
METHOD:PUBLISH
UID:2146a8f4-374e-453e-939c-9485f3f82cd6
X-WR-CALDESC:
X-WR-RELCALID:fb7bbce5eab3e929b0b3dfb952f075a3
X-WR-TIMEZONE:America/New_York
BEGIN:VTIMEZONE
TZID:America/New_York
BEGIN:STANDARD
TZNAME:EST
DTSTART:20251102T020000
TZOFFSETFROM:-0400
TZOFFSETTO:-0500
RDATE:20261101T020000
END:STANDARD
BEGIN:DAYLIGHT
TZNAME:EDT
DTSTART:20250309T020000
TZOFFSETFROM:-0500
TZOFFSETTO:-0400
RDATE:20260308T020000
RDATE:20270314T020000
END:DAYLIGHT
END:VTIMEZONE
BEGIN:VEVENT
UID:c6ac3b71-efdd-4bb8-94db-a878c7522d63
DTSTAMP:20260422T133711Z
DESCRIPTION:
DTSTART;TZID=America/New_York:20251125T110000
DTEND;TZID=America/New_York:20251125T120000
LOCATION:Chester Senior Resource Center\, 50 County Rd 513\, Chester\, NJ 0
 7930 US
SUMMARY:Blood pressure Screening Chester Seniors
END:VEVENT
END:VCALENDAR
