BEGIN:VCALENDAR
VERSION:2.0
PRODID:-//communityvna.org//NONSGML kigkonsult.se iCalcreator 2.30.10//
CALSCALE:GREGORIAN
METHOD:PUBLISH
UID:91d93604-5f9f-41c2-98f9-a3bd5b667095
X-WR-CALDESC:
X-WR-RELCALID:6e4ac32cafa3da6b3e4f5c3ee6c13395
X-WR-TIMEZONE:America/New_York
BEGIN:VTIMEZONE
TZID:America/New_York
BEGIN:STANDARD
TZNAME:EST
DTSTART:20251102T020000
TZOFFSETFROM:-0400
TZOFFSETTO:-0500
RDATE:20261101T020000
END:STANDARD
BEGIN:DAYLIGHT
TZNAME:EDT
DTSTART:20250309T020000
TZOFFSETFROM:-0500
TZOFFSETTO:-0400
RDATE:20260308T020000
RDATE:20270314T020000
END:DAYLIGHT
END:VTIMEZONE
BEGIN:VEVENT
UID:e7104ccb-e350-4e95-be93-6e0a2683ea33
DTSTAMP:20260422T133120Z
DESCRIPTION:
DTSTART;TZID=America/New_York:20251118T110000
DTEND;TZID=America/New_York:20251118T120000
LOCATION:Centerbridge 2\, 459 Shasta Dr\, Bridgewater\, NJ 08807 US
SUMMARY:Blood pressure Screening Bridgewater
END:VEVENT
END:VCALENDAR
